BEGIN:VCALENDAR
VERSION:2.0
PRODID:-//Tukios.com/
BEGIN:VEVENT
UID:f717177f-8e78-4e6c-92bc-3951cb83799b@www.greenfuneralhomes.com
DTSTAMP:20260422T232554Z
DTSTART:20260424T150000Z
DTEND:20260424T160000Z
SUMMARY:Visitation
DESCRIPTION:
URL:https://www.greenfuneralhomes.com/obituaries/teresa-engstrom
LOCATION: 3060 Casey St  Lewiston MI 49756
GEO:44.8848894;-84.3116251
END:VEVENT
END:VCALENDAR