BEGIN:VCALENDAR
VERSION:2.0
PRODID:-//Tukios.com/
BEGIN:VEVENT
UID:a6224004-6e98-4015-a580-d7e0cc9d90a4@www.greenfuneralhomes.com
DTSTAMP:20260422T232749Z
DTSTART:20260424T160000Z
DTEND:20260424T170000Z
SUMMARY:Mass
DESCRIPTION:
URL:https://www.greenfuneralhomes.com/obituaries/teresa-engstrom
LOCATION: 3060 Casey St  Lewiston MI 49756
GEO:44.8848894;-84.3116251
END:VEVENT
END:VCALENDAR